BEGIN:VCALENDAR
VERSION:2.0
PRODID:-//Spinn Eğitim - ECPv6.15.20//NONSGML v1.0//EN
CALSCALE:GREGORIAN
METHOD:PUBLISH
X-WR-CALNAME:Spinn Eğitim
X-ORIGINAL-URL:https://spinnegitim.com
X-WR-CALDESC:Spinn Eğitim için etkinlikler
REFRESH-INTERVAL;VALUE=DURATION:PT1H
X-Robots-Tag:noindex
X-PUBLISHED-TTL:PT1H
BEGIN:VTIMEZONE
TZID:UTC
BEGIN:STANDARD
TZOFFSETFROM:+0000
TZOFFSETTO:+0000
TZNAME:UTC
DTSTART:20230101T000000
END:STANDARD
END:VTIMEZONE
BEGIN:VEVENT
DTSTART;TZID=UTC:20241218T200000
DTEND;TZID=UTC:20241218T210000
DTSTAMP:20260420T052757
CREATED:20241217T074252Z
LAST-MODIFIED:20241217T074432Z
UID:77090-1734552000-1734555600@spinnegitim.com
SUMMARY:Uygulamalı Teknik Analiz Stratejisi Oluşturma Eğitimi
DESCRIPTION:BÖLÜM 1 \n\nTrendlere Yaklaşım\nTrend Çizimi Nasıl Yapılır?\n\nBölüm 2 \n\nFormasyonlar\n\nBölüm3 \n\nİndikatörler\n\nBölüm 4 \n\nMumlar ve Dönüş Sinyalleri\n\nTarih: 18-19/25-26 Ocak 2025 \nSüre: 12 saat (Günde 2 saat anlatım\, 1 saat uygulama) \nEğitmen: Murat İman
URL:https://spinnegitim.com/egitim/uygulamali-teknik-analiz-stratejisi-olusturma-egitimi/
LOCATION:zoom
CATEGORIES:Online Eğitim
ATTACH;FMTTYPE=image/jpeg:https://spinnegitim.com/wp-content/uploads/2024/12/1080.jpg
END:VEVENT
END:VCALENDAR